
BEGIN:VCALENDAR
VERSION:2.0
PRODID:-//10.29.27.184//NONSGML kigkonsult.se iCalcreator 2.20//
CALSCALE:GREGORIAN
METHOD:PUBLISH
X-WR-TIMEZONE:UTC
BEGIN:VEVENT
UID:event125@Bahagian Pembangunan Kompetensi
DTSTAMP:20260424T081654Z
CATEGORIES:Pembangunan Eksekutif
DESCRIPTION:Kursus Strategic Management for Executives Siri 1/2025\nCategor
 y: Pembangunan Eksekutif\nLink: https://hq.moh.gov.my/kompetensi/index.php
 ?option=com_jem&view=event&id=125:kursus-strategic-management-for-executiv
 es-siri-1-2025\n
DTSTART;VALUE=DATE:20250225
DTEND;VALUE=DATE:20250228
SUMMARY:Kursus Strategic Management for Executives Siri 1/2025
URL:https://hq.moh.gov.my/kompetensi/index.php?option=com_jem&view=event&id
 =125:kursus-strategic-management-for-executives-siri-1-2025
END:VEVENT
END:VCALENDAR
