
BEGIN:VCALENDAR
VERSION:2.0
PRODID:-//10.29.27.184//NONSGML kigkonsult.se iCalcreator 2.20//
CALSCALE:GREGORIAN
METHOD:PUBLISH
X-WR-TIMEZONE:UTC
BEGIN:VEVENT
UID:event115@Bahagian Pembangunan Kompetensi
DTSTAMP:20260424T081640Z
CATEGORIES:Kepimpinan dan Pengurusan
DESCRIPTION:Kursus Train the Trainer (TTT)\nCategory: Kepimpinan dan Pengur
 usan\nLink: https://hq.moh.gov.my/kompetensi/index.php?option=com_jem&view
 =event&id=115:kursus-train-the-trainer-ttt\n
DTSTART;VALUE=DATE:20250114
DTEND;VALUE=DATE:20250117
SUMMARY:Kursus Train the Trainer (TTT)
URL:https://hq.moh.gov.my/kompetensi/index.php?option=com_jem&view=event&id
 =115:kursus-train-the-trainer-ttt
END:VEVENT
BEGIN:VEVENT
UID:event119@Bahagian Pembangunan Kompetensi
DTSTAMP:20260424T081640Z
CATEGORIES:Kepimpinan dan Pengurusan
DESCRIPTION:Kursus Pengesahan Kenaikan Pangkat Pegawai Gred Khas C KKM Bil.
 1/2025\nCategory: Kepimpinan dan Pengurusan\nLink: https://hq.moh.gov.my/k
 ompetensi/index.php?option=com_jem&view=event&id=119:kursus-pengesahan-ken
 aikan-pangkat-pegawai-gred-khas-c-kkm-bil-1-2025\n
DTSTART;VALUE=DATE:20250224
DTEND;VALUE=DATE:20250228
SUMMARY:Kursus Pengesahan Kenaikan Pangkat Pegawai Gred Khas C KKM Bil.1/20
 25
URL:https://hq.moh.gov.my/kompetensi/index.php?option=com_jem&view=event&id
 =119:kursus-pengesahan-kenaikan-pangkat-pegawai-gred-khas-c-kkm-bil-1-2025
END:VEVENT
BEGIN:VEVENT
UID:event120@Bahagian Pembangunan Kompetensi
DTSTAMP:20260424T081640Z
CATEGORIES:Kepimpinan dan Pengurusan
DESCRIPTION:Kursus Pengesahan Kenaikan Pangkat Pegawai Gred Khas C KKM Bil.
 2/2025\nCategory: Kepimpinan dan Pengurusan\nLink: https://hq.moh.gov.my/k
 ompetensi/index.php?option=com_jem&view=event&id=120:kursus-pengesahan-ken
 aikan-pangkat-pegawai-gred-khas-c-kkm-bil-1-2025\n
DTSTART;VALUE=DATE:20250421
DTEND;VALUE=DATE:20250425
SUMMARY:Kursus Pengesahan Kenaikan Pangkat Pegawai Gred Khas C KKM Bil.2/20
 25
URL:https://hq.moh.gov.my/kompetensi/index.php?option=com_jem&view=event&id
 =120:kursus-pengesahan-kenaikan-pangkat-pegawai-gred-khas-c-kkm-bil-1-2025
END:VEVENT
BEGIN:VEVENT
UID:event122@Bahagian Pembangunan Kompetensi
DTSTAMP:20260424T081640Z
CATEGORIES:Kepimpinan dan Pengurusan
DESCRIPTION:KKM Leadership Siries : Lead\, Engage and Deevelopment (LEAD)\n
 Category: Kepimpinan dan Pengurusan\nLink: https://hq.moh.gov.my/kompetens
 i/index.php?option=com_jem&view=event&id=122:kkm-leadership-siries-lead-en
 gage-and-deevelopment-lead\n
DTSTART;VALUE=DATE:20250521
DTEND;VALUE=DATE:20250523
SUMMARY:KKM Leadership Siries : Lead\, Engage and Deevelopment (LEAD)
URL:https://hq.moh.gov.my/kompetensi/index.php?option=com_jem&view=event&id
 =122:kkm-leadership-siries-lead-engage-and-deevelopment-lead
END:VEVENT
BEGIN:VEVENT
UID:event133@Bahagian Pembangunan Kompetensi
DTSTAMP:20260424T081640Z
CATEGORIES:Kepimpinan dan Pengurusan
DESCRIPTION:Kursus Change Management Siri 1/2025\nCategory: Kepimpinan dan 
 Pengurusan\nLink: https://hq.moh.gov.my/kompetensi/index.php?option=com_je
 m&view=event&id=133:kursus-change-management-siri-1-2025\n
DTSTART;VALUE=DATE:20250528
DTEND;VALUE=DATE:20250531
SUMMARY:Kursus Change Management Siri 1/2025
URL:https://hq.moh.gov.my/kompetensi/index.php?option=com_jem&view=event&id
 =133:kursus-change-management-siri-1-2025
END:VEVENT
BEGIN:VEVENT
UID:event121@Bahagian Pembangunan Kompetensi
DTSTAMP:20260424T081640Z
CATEGORIES:Kepimpinan dan Pengurusan
DESCRIPTION:Kursus Pengesahan Kenaikan Pangkat Pegawai Gred Khas C KKM Bil.
 3/2025\nCategory: Kepimpinan dan Pengurusan\nLink: https://hq.moh.gov.my/k
 ompetensi/index.php?option=com_jem&view=event&id=121:kursus-pengesahan-ken
 aikan-pangkat-pegawai-gred-khas-c-kkm-bil-1-2025\n
DTSTART;VALUE=DATE:20250623
DTEND;VALUE=DATE:20250627
SUMMARY:Kursus Pengesahan Kenaikan Pangkat Pegawai Gred Khas C KKM Bil.3/20
 25
URL:https://hq.moh.gov.my/kompetensi/index.php?option=com_jem&view=event&id
 =121:kursus-pengesahan-kenaikan-pangkat-pegawai-gred-khas-c-kkm-bil-1-2025
END:VEVENT
BEGIN:VEVENT
UID:event123@Bahagian Pembangunan Kompetensi
DTSTAMP:20260424T081640Z
CATEGORIES:Kepimpinan dan Pengurusan
DESCRIPTION:KKM Leadership Siries : High Performance Leadership (HPL)\nCate
 gory: Kepimpinan dan Pengurusan\nLink: https://hq.moh.gov.my/kompetensi/in
 dex.php?option=com_jem&view=event&id=123:kkm-leadership-siries-high-perfor
 mance-leadership-hpl\n
DTSTART;VALUE=DATE:20250723
DTEND;VALUE=DATE:20250725
SUMMARY:KKM Leadership Siries : High Performance Leadership (HPL)
URL:https://hq.moh.gov.my/kompetensi/index.php?option=com_jem&view=event&id
 =123:kkm-leadership-siries-high-performance-leadership-hpl
END:VEVENT
BEGIN:VEVENT
UID:event124@Bahagian Pembangunan Kompetensi
DTSTAMP:20260424T081640Z
CATEGORIES:Kepimpinan dan Pengurusan
DESCRIPTION:KKM Leadership Siries : Habits of Successful Leader (HSL)\nCate
 gory: Kepimpinan dan Pengurusan\nLink: https://hq.moh.gov.my/kompetensi/in
 dex.php?option=com_jem&view=event&id=124:kkm-leadership-siries-habits-of-s
 uccessful-leader-hsl\n
DTSTART;VALUE=DATE:20250820
DTEND;VALUE=DATE:20250822
SUMMARY:KKM Leadership Siries : Habits of Successful Leader (HSL)
URL:https://hq.moh.gov.my/kompetensi/index.php?option=com_jem&view=event&id
 =124:kkm-leadership-siries-habits-of-successful-leader-hsl
END:VEVENT
END:VCALENDAR
