
BEGIN:VCALENDAR
VERSION:2.0
PRODID:-//10.29.27.184//NONSGML kigkonsult.se iCalcreator 2.20//
CALSCALE:GREGORIAN
METHOD:PUBLISH
X-WR-TIMEZONE:UTC
BEGIN:VEVENT
UID:event126@Bahagian Pembangunan Kompetensi
DTSTAMP:20260424T214615Z
CATEGORIES:Dasar dan Pembangunan
DESCRIPTION:Kursus Colored Brain Communication (CBC) Siri 2/2025\nCategory:
  Dasar dan Pembangunan\nLink: https://hq.moh.gov.my/kompetensi/index.php?o
 ption=com_jem&view=event&id=126:kursus-colored-brain-communication-cbc-sir
 i-2-2025\n
DTSTART;VALUE=DATE:20250623
DTEND;VALUE=DATE:20250625
SUMMARY:Kursus Colored Brain Communication (CBC) Siri 2/2025
URL:https://hq.moh.gov.my/kompetensi/index.php?option=com_jem&view=event&id
 =126:kursus-colored-brain-communication-cbc-siri-2-2025
END:VEVENT
BEGIN:VEVENT
UID:event127@Bahagian Pembangunan Kompetensi
DTSTAMP:20260424T214615Z
CATEGORIES:Dasar dan Pembangunan
DESCRIPTION:Program Pembangunan Bakat (Talent Development Programme - TDP) 
 Kohort 7 Modul 3\nCategory: Dasar dan Pembangunan\nLink: https://hq.moh.go
 v.my/kompetensi/index.php?option=com_jem&view=event&id=127:program-pembang
 unan-bakat-talent-development-programme-tdp-kohort-7-modul-3\n
DTSTART;VALUE=DATE:20250702
DTEND;VALUE=DATE:20250707
SUMMARY:Program Pembangunan Bakat (Talent Development Programme - TDP) Koho
 rt 7 Modul 3
URL:https://hq.moh.gov.my/kompetensi/index.php?option=com_jem&view=event&id
 =127:program-pembangunan-bakat-talent-development-programme-tdp-kohort-7-m
 odul-3
END:VEVENT
BEGIN:VEVENT
UID:event130@Bahagian Pembangunan Kompetensi
DTSTAMP:20260424T214615Z
CATEGORIES:Dasar dan Pembangunan
DESCRIPTION:Kursus Designing for Impact: Mastering Innovative Thinking\nCat
 egory: Dasar dan Pembangunan\nLink: https://hq.moh.gov.my/kompetensi/index
 .php?option=com_jem&view=event&id=130:kursus-designing-for-impact-masterin
 g-innovative-thinking\n
DTSTART;VALUE=DATE:20250721
DTEND;VALUE=DATE:20250723
SUMMARY:Kursus Designing for Impact: Mastering Innovative Thinking
URL:https://hq.moh.gov.my/kompetensi/index.php?option=com_jem&view=event&id
 =130:kursus-designing-for-impact-mastering-innovative-thinking
END:VEVENT
BEGIN:VEVENT
UID:event131@Bahagian Pembangunan Kompetensi
DTSTAMP:20260424T214615Z
CATEGORIES:Dasar dan Pembangunan
DESCRIPTION:Program Pembangunan Bakat (Talent Development Programme - TDP) 
 Kohort 7 Modul 4\nCategory: Dasar dan Pembangunan\nLink: https://hq.moh.go
 v.my/kompetensi/index.php?option=com_jem&view=event&id=131:program-pembang
 unan-bakat-talent-development-programme-tdp-kohort-7-modul-4\n
DTSTART;VALUE=DATE:20250811
DTEND;VALUE=DATE:20250815
SUMMARY:Program Pembangunan Bakat (Talent Development Programme - TDP) Koho
 rt 7 Modul 4
URL:https://hq.moh.gov.my/kompetensi/index.php?option=com_jem&view=event&id
 =131:program-pembangunan-bakat-talent-development-programme-tdp-kohort-7-m
 odul-4
END:VEVENT
BEGIN:VEVENT
UID:event132@Bahagian Pembangunan Kompetensi
DTSTAMP:20260424T214615Z
CATEGORIES:Dasar dan Pembangunan
DESCRIPTION:Program Pembangunan Bakat (Talent Development Programme - TDP) 
 Kohort 7 Modul 5\nCategory: Dasar dan Pembangunan\nLink: https://hq.moh.go
 v.my/kompetensi/index.php?option=com_jem&view=event&id=132:program-pembang
 unan-bakat-talent-development-programme-tdp-kohort-7-modul-5\n
DTSTART;VALUE=DATE:20251006
DTEND;VALUE=DATE:20251011
SUMMARY:Program Pembangunan Bakat (Talent Development Programme - TDP) Koho
 rt 7 Modul 5
URL:https://hq.moh.gov.my/kompetensi/index.php?option=com_jem&view=event&id
 =132:program-pembangunan-bakat-talent-development-programme-tdp-kohort-7-m
 odul-5
END:VEVENT
END:VCALENDAR
