
BEGIN:VCALENDAR
VERSION:2.0
PRODID:-//10.29.27.184//NONSGML kigkonsult.se iCalcreator 2.20//
CALSCALE:GREGORIAN
METHOD:PUBLISH
X-WR-TIMEZONE:UTC
BEGIN:VEVENT
UID:event116@Bahagian Pembangunan Kompetensi
DTSTAMP:20260423T101733Z
CATEGORIES:Profesional dan Etika
DESCRIPTION:Kursus Business Communication Skills  \nCategory: Profesional d
 an Etika\nLink: https://hq.moh.gov.my/kompetensi/index.php?option=com_jem&
 view=event&id=116:kursus-business-communication-skills\n
DTSTART;VALUE=DATE:20250121
DTEND;VALUE=DATE:20250123
SUMMARY:Kursus Business Communication Skills  
URL:https://hq.moh.gov.my/kompetensi/index.php?option=com_jem&view=event&id
 =116:kursus-business-communication-skills
END:VEVENT
END:VCALENDAR
